BEGIN:VCALENDAR
VERSION:2.0
PRODID:-//Arroyo Seco Saints - ECPv6.15.17.1//NONSGML v1.0//EN
CALSCALE:GREGORIAN
METHOD:PUBLISH
X-WR-CALNAME:Arroyo Seco Saints
X-ORIGINAL-URL:https://www.arroyosecosaints.com
X-WR-CALDESC:Events for Arroyo Seco Saints
REFRESH-INTERVAL;VALUE=DURATION:PT1H
X-Robots-Tag:noindex
X-PUBLISHED-TTL:PT1H
BEGIN:VTIMEZONE
TZID:America/Los_Angeles
BEGIN:DAYLIGHT
TZOFFSETFROM:-0800
TZOFFSETTO:-0700
TZNAME:PDT
DTSTART:20200308T100000
END:DAYLIGHT
BEGIN:STANDARD
TZOFFSETFROM:-0700
TZOFFSETTO:-0800
TZNAME:PST
DTSTART:20201101T090000
END:STANDARD
BEGIN:DAYLIGHT
TZOFFSETFROM:-0800
TZOFFSETTO:-0700
TZNAME:PDT
DTSTART:20210314T100000
END:DAYLIGHT
BEGIN:STANDARD
TZOFFSETFROM:-0700
TZOFFSETTO:-0800
TZNAME:PST
DTSTART:20211107T090000
END:STANDARD
BEGIN:DAYLIGHT
TZOFFSETFROM:-0800
TZOFFSETTO:-0700
TZNAME:PDT
DTSTART:20220313T100000
END:DAYLIGHT
BEGIN:STANDARD
TZOFFSETFROM:-0700
TZOFFSETTO:-0800
TZNAME:PST
DTSTART:20221106T090000
END:STANDARD
END:VTIMEZONE
BEGIN:VTIMEZONE
TZID:America/Vancouver
BEGIN:DAYLIGHT
TZOFFSETFROM:-0800
TZOFFSETTO:-0700
TZNAME:PDT
DTSTART:20200308T100000
END:DAYLIGHT
BEGIN:STANDARD
TZOFFSETFROM:-0700
TZOFFSETTO:-0800
TZNAME:PST
DTSTART:20201101T090000
END:STANDARD
BEGIN:DAYLIGHT
TZOFFSETFROM:-0800
TZOFFSETTO:-0700
TZNAME:PDT
DTSTART:20210314T100000
END:DAYLIGHT
BEGIN:STANDARD
TZOFFSETFROM:-0700
TZOFFSETTO:-0800
TZNAME:PST
DTSTART:20211107T090000
END:STANDARD
BEGIN:DAYLIGHT
TZOFFSETFROM:-0800
TZOFFSETTO:-0700
TZNAME:PDT
DTSTART:20220313T100000
END:DAYLIGHT
BEGIN:STANDARD
TZOFFSETFROM:-0700
TZOFFSETTO:-0800
TZNAME:PST
DTSTART:20221106T090000
END:STANDARD
END:VTIMEZONE
BEGIN:VEVENT
DTSTART;VALUE=DATE:20210806
DTEND;VALUE=DATE:20210807
DTSTAMP:20260421T053302
CREATED:20210515T064409Z
LAST-MODIFIED:20210515T064409Z
UID:9193-1628208000-1628294399@www.arroyosecosaints.com
SUMMARY:CCL State Tournament @ Lincoln
DESCRIPTION:
URL:https://www.arroyosecosaints.com/event/ccl-state-tournament-lincoln-3/
CATEGORIES:2021 Calendar
ATTACH;FMTTYPE=image/png:https://www.arroyosecosaints.com/wp-content/uploads/2021/05/Logo_2021-CCL-State-Championship.png
END:VEVENT
BEGIN:VEVENT
DTSTART;VALUE=DATE:20210805
DTEND;VALUE=DATE:20210806
DTSTAMP:20260421T053302
CREATED:20210515T064255Z
LAST-MODIFIED:20210515T064255Z
UID:9191-1628121600-1628207999@www.arroyosecosaints.com
SUMMARY:CCL State Tournament @ Lincoln
DESCRIPTION:
URL:https://www.arroyosecosaints.com/event/ccl-state-tournament-lincoln-2/
CATEGORIES:2021 Calendar
ATTACH;FMTTYPE=image/png:https://www.arroyosecosaints.com/wp-content/uploads/2021/05/Logo_2021-CCL-State-Championship.png
END:VEVENT
BEGIN:VEVENT
DTSTART;VALUE=DATE:20210804
DTEND;VALUE=DATE:20210805
DTSTAMP:20260421T053302
CREATED:20210515T064145Z
LAST-MODIFIED:20210805T170515Z
UID:9188-1628035200-1628121599@www.arroyosecosaints.com
SUMMARY:W (6-2) CCL State Tournament @ Lincoln
DESCRIPTION:
URL:https://www.arroyosecosaints.com/event/ccl-state-tournament-lincoln/
CATEGORIES:2021 Calendar
ATTACH;FMTTYPE=image/png:https://www.arroyosecosaints.com/wp-content/uploads/2021/05/Logo_2021-CCL-State-Championship.png
END:VEVENT
BEGIN:VEVENT
DTSTART;TZID=America/Los_Angeles:20210801T130000
DTEND;TZID=America/Los_Angeles:20210801T180000
DTSTAMP:20260421T053302
CREATED:20210515T063919Z
LAST-MODIFIED:20210802T052524Z
UID:9184-1627822800-1627840800@www.arroyosecosaints.com
SUMMARY:L (14-3) @ Conejo Oaks
DESCRIPTION:
URL:https://www.arroyosecosaints.com/event/conejo-oaks-12/
CATEGORIES:2021 Calendar
ATTACH;FMTTYPE=image/png:https://www.arroyosecosaints.com/wp-content/uploads/2019/03/Conejo-Oaks.png
END:VEVENT
BEGIN:VEVENT
DTSTART;TZID=America/Vancouver:20210731T180000
DTEND;TZID=America/Vancouver:20210731T230000
DTSTAMP:20260421T053302
CREATED:20210505T042804Z
LAST-MODIFIED:20210801T045740Z
UID:9167-1627754400-1627772400@www.arroyosecosaints.com
SUMMARY:L (4-1) @ SB Foresters
DESCRIPTION:
URL:https://www.arroyosecosaints.com/event/sb-foresters-3/
CATEGORIES:2021 Calendar
ATTACH;FMTTYPE=image/jpeg:https://www.arroyosecosaints.com/wp-content/uploads/2019/03/Santa-Barbara-Foresters.jpg
END:VEVENT
BEGIN:VEVENT
DTSTART;TZID=America/Vancouver:20210730T180000
DTEND;TZID=America/Vancouver:20210730T230000
DTSTAMP:20260421T053302
CREATED:20210505T042616Z
LAST-MODIFIED:20210801T022153Z
UID:9164-1627668000-1627686000@www.arroyosecosaints.com
SUMMARY:W(7-3)@ OC Riptide
DESCRIPTION:
URL:https://www.arroyosecosaints.com/event/oc-riptide-3/
CATEGORIES:2021 Calendar
ATTACH;FMTTYPE=image/png:https://www.arroyosecosaints.com/wp-content/uploads/2019/03/Orange-County-Riptide.png
END:VEVENT
BEGIN:VEVENT
DTSTART;TZID=America/Vancouver:20210729T180500
DTEND;TZID=America/Vancouver:20210729T230500
DTSTAMP:20260421T053302
CREATED:20210505T042447Z
LAST-MODIFIED:20210730T160820Z
UID:9161-1627581900-1627599900@www.arroyosecosaints.com
SUMMARY:W (6-5) VS MLB Barons
DESCRIPTION:
URL:https://www.arroyosecosaints.com/event/vs-mlb-barons-3/
CATEGORIES:2021 Calendar
ATTACH;FMTTYPE=image/jpeg:https://www.arroyosecosaints.com/wp-content/uploads/2018/01/Barons3.jpg
END:VEVENT
BEGIN:VEVENT
DTSTART;TZID=America/Vancouver:20210728T180000
DTEND;TZID=America/Vancouver:20210728T230000
DTSTAMP:20260421T053302
CREATED:20210505T042342Z
LAST-MODIFIED:20210729T041619Z
UID:9158-1627495200-1627513200@www.arroyosecosaints.com
SUMMARY:L (5-3) @ SLO Blues
DESCRIPTION:
URL:https://www.arroyosecosaints.com/event/slo-blues-4/
CATEGORIES:2021 Calendar
ATTACH;FMTTYPE=image/jpeg:https://www.arroyosecosaints.com/wp-content/uploads/2019/03/San-Luis-Obispo-Blues.jpg
END:VEVENT
BEGIN:VEVENT
DTSTART;TZID=America/Vancouver:20210727T180500
DTEND;TZID=America/Vancouver:20210727T230500
DTSTAMP:20260421T053302
CREATED:20210505T042236Z
LAST-MODIFIED:20210728T061935Z
UID:9155-1627409100-1627427100@www.arroyosecosaints.com
SUMMARY:L (12-6) VS SB Foresters
DESCRIPTION:
URL:https://www.arroyosecosaints.com/event/vs-sb-foresters-3/
CATEGORIES:2021 Calendar
ATTACH;FMTTYPE=image/jpeg:https://www.arroyosecosaints.com/wp-content/uploads/2019/03/Santa-Barbara-Foresters.jpg
END:VEVENT
BEGIN:VEVENT
DTSTART;TZID=America/Vancouver:20210725T180500
DTEND;TZID=America/Vancouver:20210725T230500
DTSTAMP:20260421T053302
CREATED:20210505T042115Z
LAST-MODIFIED:20210726T060113Z
UID:9152-1627236300-1627254300@www.arroyosecosaints.com
SUMMARY:L (10-2) VS OC Riptide
DESCRIPTION:
URL:https://www.arroyosecosaints.com/event/vs-oc-riptide-3/
CATEGORIES:2021 Calendar
ATTACH;FMTTYPE=image/png:https://www.arroyosecosaints.com/wp-content/uploads/2019/03/Orange-County-Riptide.png
END:VEVENT
BEGIN:VEVENT
DTSTART;TZID=America/Vancouver:20210724T180000
DTEND;TZID=America/Vancouver:20210724T230000
DTSTAMP:20260421T053302
CREATED:20210505T041954Z
LAST-MODIFIED:20210726T060058Z
UID:9149-1627149600-1627167600@www.arroyosecosaints.com
SUMMARY:L (1-0) @ SB Foresters
DESCRIPTION:
URL:https://www.arroyosecosaints.com/event/sb-foresters-2/
CATEGORIES:2021 Calendar
ATTACH;FMTTYPE=image/jpeg:https://www.arroyosecosaints.com/wp-content/uploads/2019/03/Santa-Barbara-Foresters.jpg
END:VEVENT
BEGIN:VEVENT
DTSTART;TZID=America/Vancouver:20210723T163000
DTEND;TZID=America/Vancouver:20210723T213000
DTSTAMP:20260421T053302
CREATED:20210505T041844Z
LAST-MODIFIED:20210724T053613Z
UID:9146-1627057800-1627075800@www.arroyosecosaints.com
SUMMARY:W (7-2) @ Conejo Oaks
DESCRIPTION:
URL:https://www.arroyosecosaints.com/event/conejo-oaks-11/
CATEGORIES:2021 Calendar
ATTACH;FMTTYPE=image/png:https://www.arroyosecosaints.com/wp-content/uploads/2019/03/Conejo-Oaks.png
END:VEVENT
BEGIN:VEVENT
DTSTART;TZID=America/Vancouver:20210721T180000
DTEND;TZID=America/Vancouver:20210721T233000
DTSTAMP:20260421T053302
CREATED:20210505T041625Z
LAST-MODIFIED:20210722T052705Z
UID:9143-1626890400-1626910200@www.arroyosecosaints.com
SUMMARY:L (7-4) @ MLB Barons
DESCRIPTION:
URL:https://www.arroyosecosaints.com/event/mlb-barons-3/
CATEGORIES:2021 Calendar
ATTACH;FMTTYPE=image/jpeg:https://www.arroyosecosaints.com/wp-content/uploads/2018/01/Barons3.jpg
END:VEVENT
BEGIN:VEVENT
DTSTART;TZID=America/Vancouver:20210720T180500
DTEND;TZID=America/Vancouver:20210720T230500
DTSTAMP:20260421T053302
CREATED:20210505T041509Z
LAST-MODIFIED:20210721T110239Z
UID:9140-1626804300-1626822300@www.arroyosecosaints.com
SUMMARY:W (8-4) VS MLB Barons
DESCRIPTION:
URL:https://www.arroyosecosaints.com/event/vs-mlb-barons-2/
CATEGORIES:2021 Calendar
ATTACH;FMTTYPE=image/jpeg:https://www.arroyosecosaints.com/wp-content/uploads/2018/01/Barons3.jpg
END:VEVENT
BEGIN:VEVENT
DTSTART;TZID=America/Vancouver:20210718T130000
DTEND;TZID=America/Vancouver:20210718T180000
DTSTAMP:20260421T053302
CREATED:20210505T041344Z
LAST-MODIFIED:20210719T152528Z
UID:9137-1626613200-1626631200@www.arroyosecosaints.com
SUMMARY:W (5-3) @ SLO Blues
DESCRIPTION:
URL:https://www.arroyosecosaints.com/event/slo-blues-3/
CATEGORIES:2021 Calendar
ATTACH;FMTTYPE=image/jpeg:https://www.arroyosecosaints.com/wp-content/uploads/2019/03/San-Luis-Obispo-Blues.jpg
END:VEVENT
BEGIN:VEVENT
DTSTART;TZID=America/Vancouver:20210716T180000
DTEND;TZID=America/Vancouver:20210716T230000
DTSTAMP:20260421T053302
CREATED:20210505T041228Z
LAST-MODIFIED:20210717T063149Z
UID:9134-1626458400-1626476400@www.arroyosecosaints.com
SUMMARY:W (5-3) @ SLO Blues
DESCRIPTION:
URL:https://www.arroyosecosaints.com/event/slo-blues-2/
CATEGORIES:2021 Calendar
ATTACH;FMTTYPE=image/jpeg:https://www.arroyosecosaints.com/wp-content/uploads/2019/03/San-Luis-Obispo-Blues.jpg
END:VEVENT
BEGIN:VEVENT
DTSTART;TZID=America/Vancouver:20210715T180500
DTEND;TZID=America/Vancouver:20210715T230500
DTSTAMP:20260421T053302
CREATED:20210505T041038Z
LAST-MODIFIED:20210717T003010Z
UID:9131-1626372300-1626390300@www.arroyosecosaints.com
SUMMARY:(W 10-0) VS Conejo Oaks
DESCRIPTION:
URL:https://www.arroyosecosaints.com/event/vs-conejo-oaks-9/
CATEGORIES:2021 Calendar
ATTACH;FMTTYPE=image/png:https://www.arroyosecosaints.com/wp-content/uploads/2019/03/Conejo-Oaks.png
END:VEVENT
BEGIN:VEVENT
DTSTART;TZID=America/Los_Angeles:20210714T190000
DTEND;TZID=America/Los_Angeles:20210714T235900
DTSTAMP:20260421T053302
CREATED:20210515T063606Z
LAST-MODIFIED:20210717T002918Z
UID:9181-1626289200-1626307140@www.arroyosecosaints.com
SUMMARY:South 6\, North 2: CCL Showcase Game @ UYA
DESCRIPTION:
URL:https://www.arroyosecosaints.com/event/ccl-showcase-game-uya/
CATEGORIES:2021 Calendar
ATTACH;FMTTYPE=image/png:https://www.arroyosecosaints.com/wp-content/uploads/2021/05/Logo_CCL-Showcase-Game.png
END:VEVENT
BEGIN:VEVENT
DTSTART;TZID=America/Vancouver:20210713T180000
DTEND;TZID=America/Vancouver:20210713T230000
DTSTAMP:20260421T053302
CREATED:20210503T093528Z
LAST-MODIFIED:20210717T002743Z
UID:9129-1626199200-1626217200@www.arroyosecosaints.com
SUMMARY:CANCELLED @ San Diego Waves
DESCRIPTION:
URL:https://www.arroyosecosaints.com/event/san-diego-waves/
CATEGORIES:2021 Calendar
END:VEVENT
BEGIN:VEVENT
DTSTART;TZID=America/Vancouver:20210711T180500
DTEND;TZID=America/Vancouver:20210711T230500
DTSTAMP:20260421T053302
CREATED:20210512T224435Z
LAST-MODIFIED:20210712T050255Z
UID:9176-1626026700-1626044700@www.arroyosecosaints.com
SUMMARY:L (8-7) VS San Diego Waves
DESCRIPTION:
URL:https://www.arroyosecosaints.com/event/vs-san-diego-waves/
CATEGORIES:2021 Calendar
END:VEVENT
BEGIN:VEVENT
DTSTART;TZID=America/Vancouver:20210710T180000
DTEND;TZID=America/Vancouver:20210710T233000
DTSTAMP:20260421T053302
CREATED:20210503T093343Z
LAST-MODIFIED:20210711T061835Z
UID:9127-1625940000-1625959800@www.arroyosecosaints.com
SUMMARY:W (18-7) @ MLB Barons
DESCRIPTION:
URL:https://www.arroyosecosaints.com/event/mlb-barons-2/
CATEGORIES:2021 Calendar
ATTACH;FMTTYPE=image/jpeg:https://www.arroyosecosaints.com/wp-content/uploads/2018/01/Barons3.jpg
END:VEVENT
BEGIN:VEVENT
DTSTART;TZID=America/Vancouver:20210709T180000
DTEND;TZID=America/Vancouver:20210709T230000
DTSTAMP:20260421T053302
CREATED:20210503T093231Z
LAST-MODIFIED:20210710T050817Z
UID:9125-1625853600-1625871600@www.arroyosecosaints.com
SUMMARY:W (6-5) @ SB Foresters
DESCRIPTION:
URL:https://www.arroyosecosaints.com/event/sb-foresters/
CATEGORIES:2021 Calendar
ATTACH;FMTTYPE=image/jpeg:https://www.arroyosecosaints.com/wp-content/uploads/2019/03/Santa-Barbara-Foresters.jpg
END:VEVENT
BEGIN:VEVENT
DTSTART;TZID=America/Vancouver:20210708T180500
DTEND;TZID=America/Vancouver:20210708T230500
DTSTAMP:20260421T053302
CREATED:20210503T093131Z
LAST-MODIFIED:20210709T182248Z
UID:9123-1625767500-1625785500@www.arroyosecosaints.com
SUMMARY:W (8-6) VS SB Foresters
DESCRIPTION:
URL:https://www.arroyosecosaints.com/event/vs-sb-foresters-2/
CATEGORIES:2021 Calendar
ATTACH;FMTTYPE=image/jpeg:https://www.arroyosecosaints.com/wp-content/uploads/2019/03/Santa-Barbara-Foresters.jpg
END:VEVENT
BEGIN:VEVENT
DTSTART;TZID=America/Vancouver:20210707T180500
DTEND;TZID=America/Vancouver:20210707T230500
DTSTAMP:20260421T053302
CREATED:20210503T092940Z
LAST-MODIFIED:20210709T182259Z
UID:9121-1625681100-1625699100@www.arroyosecosaints.com
SUMMARY:W (8-3) VS MLB Barons
DESCRIPTION:
URL:https://www.arroyosecosaints.com/event/vs-mlb-barons/
CATEGORIES:2021 Calendar
ATTACH;FMTTYPE=image/jpeg:https://www.arroyosecosaints.com/wp-content/uploads/2018/01/Barons3.jpg
END:VEVENT
BEGIN:VEVENT
DTSTART;TZID=America/Vancouver:20210706T180000
DTEND;TZID=America/Vancouver:20210706T230000
DTSTAMP:20260421T053302
CREATED:20210503T092834Z
LAST-MODIFIED:20210709T182311Z
UID:9119-1625594400-1625612400@www.arroyosecosaints.com
SUMMARY:W (13-12) @ OC Riptide
DESCRIPTION:
URL:https://www.arroyosecosaints.com/event/oc-riptide-2/
CATEGORIES:2021 Calendar
ATTACH;FMTTYPE=image/png:https://www.arroyosecosaints.com/wp-content/uploads/2019/03/Orange-County-Riptide.png
END:VEVENT
BEGIN:VEVENT
DTSTART;TZID=America/Vancouver:20210703T180000
DTEND;TZID=America/Vancouver:20210703T230000
DTSTAMP:20260421T053302
CREATED:20210503T092506Z
LAST-MODIFIED:20210709T182333Z
UID:9117-1625335200-1625353200@www.arroyosecosaints.com
SUMMARY:L (5-4) @ SLO Blues
DESCRIPTION:
URL:https://www.arroyosecosaints.com/event/slo-blues/
CATEGORIES:2021 Calendar
ATTACH;FMTTYPE=image/jpeg:https://www.arroyosecosaints.com/wp-content/uploads/2019/03/San-Luis-Obispo-Blues.jpg
END:VEVENT
BEGIN:VEVENT
DTSTART;TZID=America/Vancouver:20210702T180500
DTEND;TZID=America/Vancouver:20210702T230500
DTSTAMP:20260421T053302
CREATED:20210503T092337Z
LAST-MODIFIED:20210709T182355Z
UID:9115-1625249100-1625267100@www.arroyosecosaints.com
SUMMARY:L (9-6) VS OC Riptide
DESCRIPTION:
URL:https://www.arroyosecosaints.com/event/vs-oc-riptide-2/
CATEGORIES:2021 Calendar
ATTACH;FMTTYPE=image/png:https://www.arroyosecosaints.com/wp-content/uploads/2019/03/Orange-County-Riptide.png
END:VEVENT
BEGIN:VEVENT
DTSTART;TZID=America/Vancouver:20210701T180500
DTEND;TZID=America/Vancouver:20210701T180500
DTSTAMP:20260421T053302
CREATED:20210503T092211Z
LAST-MODIFIED:20210702T074258Z
UID:9113-1625162700-1625162700@www.arroyosecosaints.com
SUMMARY:W (5-1) VS SLO Blues
DESCRIPTION:
URL:https://www.arroyosecosaints.com/event/vs-slo-blues-2/
CATEGORIES:2021 Calendar
ATTACH;FMTTYPE=image/jpeg:https://www.arroyosecosaints.com/wp-content/uploads/2019/03/San-Luis-Obispo-Blues.jpg
END:VEVENT
BEGIN:VEVENT
DTSTART;TZID=America/Vancouver:20210630T180500
DTEND;TZID=America/Vancouver:20210630T230500
DTSTAMP:20260421T053302
CREATED:20210503T091900Z
LAST-MODIFIED:20210701T061613Z
UID:9111-1625076300-1625094300@www.arroyosecosaints.com
SUMMARY:W (6-3) VS SB Foresters
DESCRIPTION:
URL:https://www.arroyosecosaints.com/event/vs-sb-foresters/
CATEGORIES:2021 Calendar
ATTACH;FMTTYPE=image/jpeg:https://www.arroyosecosaints.com/wp-content/uploads/2019/03/Santa-Barbara-Foresters.jpg
END:VEVENT
BEGIN:VEVENT
DTSTART;TZID=America/Vancouver:20210629T180500
DTEND;TZID=America/Vancouver:20210629T230500
DTSTAMP:20260421T053302
CREATED:20210503T091712Z
LAST-MODIFIED:20210630T074918Z
UID:9109-1624989900-1625007900@www.arroyosecosaints.com
SUMMARY:W (12-3) VS Conejo Oaks
DESCRIPTION:
URL:https://www.arroyosecosaints.com/event/vs-conejo-oaks-8/
CATEGORIES:2021 Calendar
ATTACH;FMTTYPE=image/png:https://www.arroyosecosaints.com/wp-content/uploads/2019/03/Conejo-Oaks.png
END:VEVENT
END:VCALENDAR