BEGIN:VCALENDAR
VERSION:2.0
PRODID:-//Arroyo Seco Saints - ECPv6.15.17.1//NONSGML v1.0//EN
CALSCALE:GREGORIAN
METHOD:PUBLISH
X-ORIGINAL-URL:https://www.arroyosecosaints.com
X-WR-CALDESC:Events for Arroyo Seco Saints
REFRESH-INTERVAL;VALUE=DURATION:PT1H
X-Robots-Tag:noindex
X-PUBLISHED-TTL:PT1H
BEGIN:VTIMEZONE
TZID:America/Los_Angeles
BEGIN:DAYLIGHT
TZOFFSETFROM:-0800
TZOFFSETTO:-0700
TZNAME:PDT
DTSTART:20230312T100000
END:DAYLIGHT
BEGIN:STANDARD
TZOFFSETFROM:-0700
TZOFFSETTO:-0800
TZNAME:PST
DTSTART:20231105T090000
END:STANDARD
BEGIN:DAYLIGHT
TZOFFSETFROM:-0800
TZOFFSETTO:-0700
TZNAME:PDT
DTSTART:20240310T100000
END:DAYLIGHT
BEGIN:STANDARD
TZOFFSETFROM:-0700
TZOFFSETTO:-0800
TZNAME:PST
DTSTART:20241103T090000
END:STANDARD
BEGIN:DAYLIGHT
TZOFFSETFROM:-0800
TZOFFSETTO:-0700
TZNAME:PDT
DTSTART:20250309T100000
END:DAYLIGHT
BEGIN:STANDARD
TZOFFSETFROM:-0700
TZOFFSETTO:-0800
TZNAME:PST
DTSTART:20251102T090000
END:STANDARD
END:VTIMEZONE
BEGIN:VEVENT
DTSTART;TZID=America/Los_Angeles:20240606T180500
DTEND;TZID=America/Los_Angeles:20240606T210500
DTSTAMP:20260421T023352
CREATED:20240513T223736Z
LAST-MODIFIED:20240513T223901Z
UID:11633-1717697100-1717707900@www.arroyosecosaints.com
SUMMARY:VS VC Pirates
DESCRIPTION:
URL:https://www.arroyosecosaints.com/event/vs-vc-pirates-2/
LOCATION:JRS – Brookside Park (Pasadena\, CA)
CATEGORIES:2024 Calendar
ATTACH;FMTTYPE=image/jpeg:https://www.arroyosecosaints.com/wp-content/uploads/2018/01/vcpirates1_small.jpg
END:VEVENT
BEGIN:VEVENT
DTSTART;TZID=America/Los_Angeles:20240607T190000
DTEND;TZID=America/Los_Angeles:20240607T220000
DTSTAMP:20260421T023352
CREATED:20240513T224146Z
LAST-MODIFIED:20240517T113117Z
UID:11635-1717786800-1717797600@www.arroyosecosaints.com
SUMMARY:@ OC RIPTIDE
DESCRIPTION:
URL:https://www.arroyosecosaints.com/event/oc-riptide-11/
LOCATION:The Great Park (Irvine\, CA)\, 8000 Great Park Blvd.\, Irvine\, CA\, 92618\, United States
CATEGORIES:2024 Calendar
ATTACH;FMTTYPE=image/png:https://www.arroyosecosaints.com/wp-content/uploads/2019/03/Orange-County-Riptide.png
END:VEVENT
BEGIN:VEVENT
DTSTART;TZID=America/Los_Angeles:20240608T180500
DTEND;TZID=America/Los_Angeles:20240608T210500
DTSTAMP:20260421T023352
CREATED:20240514T074332Z
LAST-MODIFIED:20240514T082935Z
UID:11638-1717869900-1717880700@www.arroyosecosaints.com
SUMMARY:VS VC PIRATES
DESCRIPTION:
URL:https://www.arroyosecosaints.com/event/vs-vc-pirates-3/
LOCATION:JRS – Brookside Park (Pasadena\, CA)
CATEGORIES:2024 Calendar
ATTACH;FMTTYPE=image/jpeg:https://www.arroyosecosaints.com/wp-content/uploads/2018/01/vcpirates1_small.jpg
END:VEVENT
BEGIN:VEVENT
DTSTART;TZID=America/Los_Angeles:20240609T180500
DTEND;TZID=America/Los_Angeles:20240609T210500
DTSTAMP:20260421T023352
CREATED:20240514T075052Z
LAST-MODIFIED:20240514T082819Z
UID:11640-1717956300-1717967100@www.arroyosecosaints.com
SUMMARY:VS CONEJO OAKS
DESCRIPTION:
URL:https://www.arroyosecosaints.com/event/vs-conejo-oaks-17/
LOCATION:JRS – Brookside Park (Pasadena\, CA)
CATEGORIES:2024 Calendar
ATTACH;FMTTYPE=image/png:https://www.arroyosecosaints.com/wp-content/uploads/2019/03/Conejo-Oaks.png
END:VEVENT
BEGIN:VEVENT
DTSTART;TZID=America/Los_Angeles:20240611T180500
DTEND;TZID=America/Los_Angeles:20240611T210500
DTSTAMP:20260421T023352
CREATED:20240514T075404Z
LAST-MODIFIED:20240514T082758Z
UID:11642-1718129100-1718139900@www.arroyosecosaints.com
SUMMARY:VS WC CRAWDADS
DESCRIPTION:
URL:https://www.arroyosecosaints.com/event/vs-wc-crawdads/
LOCATION:JRS – Brookside Park (Pasadena\, CA)
CATEGORIES:2024 Calendar
ATTACH;FMTTYPE=image/png:https://www.arroyosecosaints.com/wp-content/uploads/2020/02/crawdadv1-A-1.png
END:VEVENT
BEGIN:VEVENT
DTSTART;TZID=America/Los_Angeles:20240613T180500
DTEND;TZID=America/Los_Angeles:20240613T210500
DTSTAMP:20260421T023352
CREATED:20240514T075536Z
LAST-MODIFIED:20240514T082724Z
UID:11644-1718301900-1718312700@www.arroyosecosaints.com
SUMMARY:VS WC CRAWDADS
DESCRIPTION:
URL:https://www.arroyosecosaints.com/event/vs-wc-crawdads-2/
LOCATION:JRS – Brookside Park (Pasadena\, CA)
CATEGORIES:2024 Calendar
ATTACH;FMTTYPE=image/png:https://www.arroyosecosaints.com/wp-content/uploads/2020/02/crawdadv1-A-1.png
END:VEVENT
BEGIN:VEVENT
DTSTART;TZID=America/Los_Angeles:20240614T180500
DTEND;TZID=America/Los_Angeles:20240614T210500
DTSTAMP:20260421T023352
CREATED:20240514T081215Z
LAST-MODIFIED:20240514T082655Z
UID:11646-1718388300-1718399100@www.arroyosecosaints.com
SUMMARY:VS OC RIPTIDE
DESCRIPTION:
URL:https://www.arroyosecosaints.com/event/vs-oc-riptide-9/
LOCATION:JRS – Brookside Park (Pasadena\, CA)
CATEGORIES:2024 Calendar
ATTACH;FMTTYPE=image/png:https://www.arroyosecosaints.com/wp-content/uploads/2019/03/Orange-County-Riptide.png
END:VEVENT
BEGIN:VEVENT
DTSTART;TZID=America/Los_Angeles:20240615T163000
DTEND;TZID=America/Los_Angeles:20240615T193000
DTSTAMP:20260421T023352
CREATED:20240514T081633Z
LAST-MODIFIED:20240514T082632Z
UID:11648-1718469000-1718479800@www.arroyosecosaints.com
SUMMARY:@ SB FORESTERS
DESCRIPTION:
URL:https://www.arroyosecosaints.com/event/sb-foresters-11/
LOCATION:Santa Barbara High School (Santa Barbara\, CA)
CATEGORIES:2024 Calendar
ATTACH;FMTTYPE=image/jpeg:https://www.arroyosecosaints.com/wp-content/uploads/2018/01/Santa-Barbara-Foresters.jpg
END:VEVENT
BEGIN:VEVENT
DTSTART;TZID=America/Los_Angeles:20240618T180500
DTEND;TZID=America/Los_Angeles:20240618T210500
DTSTAMP:20260421T023352
CREATED:20240514T083305Z
LAST-MODIFIED:20240514T083305Z
UID:11657-1718733900-1718744700@www.arroyosecosaints.com
SUMMARY:@ ACADEMY BARONS
DESCRIPTION:
URL:https://www.arroyosecosaints.com/event/academy-barons-13/
LOCATION:MLB Urban Youth Academy (Compton\, CA)
CATEGORIES:2024 Calendar
ATTACH;FMTTYPE=image/jpeg:https://www.arroyosecosaints.com/wp-content/uploads/2018/01/Barons3.jpg
END:VEVENT
BEGIN:VEVENT
DTSTART;TZID=America/Los_Angeles:20240619T180500
DTEND;TZID=America/Los_Angeles:20240619T210500
DTSTAMP:20260421T023352
CREATED:20240514T083617Z
LAST-MODIFIED:20240514T083617Z
UID:11659-1718820300-1718831100@www.arroyosecosaints.com
SUMMARY:VS SD SUNRAYS
DESCRIPTION:
URL:https://www.arroyosecosaints.com/event/vs-sd-sunrays/
LOCATION:JRS – Brookside Park (Pasadena\, CA)
CATEGORIES:2024 Calendar
END:VEVENT
BEGIN:VEVENT
DTSTART;TZID=America/Los_Angeles:20240621T180500
DTEND;TZID=America/Los_Angeles:20240621T210500
DTSTAMP:20260421T023352
CREATED:20240514T083938Z
LAST-MODIFIED:20240514T083938Z
UID:11661-1718993100-1719003900@www.arroyosecosaints.com
SUMMARY:VS ACADEMY BARONS
DESCRIPTION:
URL:https://www.arroyosecosaints.com/event/vs-academy-barons-8/
LOCATION:JRS – Brookside Park (Pasadena\, CA)
CATEGORIES:2024 Calendar
ATTACH;FMTTYPE=image/jpeg:https://www.arroyosecosaints.com/wp-content/uploads/2018/01/Barons3.jpg
END:VEVENT
BEGIN:VEVENT
DTSTART;TZID=America/Los_Angeles:20240622T140000
DTEND;TZID=America/Los_Angeles:20240622T170000
DTSTAMP:20260421T023352
CREATED:20240514T084153Z
LAST-MODIFIED:20240621T194446Z
UID:11663-1719064800-1719075600@www.arroyosecosaints.com
SUMMARY:@ CONEJO OAKS
DESCRIPTION:
URL:https://www.arroyosecosaints.com/event/conejo-oaks-18/
LOCATION:Cal Lutheran University (Thousand Oaks\, CA)
CATEGORIES:2024 Calendar
ATTACH;FMTTYPE=image/png:https://www.arroyosecosaints.com/wp-content/uploads/2019/03/Conejo-Oaks.png
END:VEVENT
BEGIN:VEVENT
DTSTART;TZID=America/Los_Angeles:20240623T180500
DTEND;TZID=America/Los_Angeles:20240623T210500
DTSTAMP:20260421T023352
CREATED:20240514T084356Z
LAST-MODIFIED:20240514T084356Z
UID:11665-1719165900-1719176700@www.arroyosecosaints.com
SUMMARY:VS ACADEMY BARONS
DESCRIPTION:
URL:https://www.arroyosecosaints.com/event/vs-academy-barons-13/
LOCATION:JRS – Brookside Park (Pasadena\, CA)
CATEGORIES:2024 Calendar
ATTACH;FMTTYPE=image/jpeg:https://www.arroyosecosaints.com/wp-content/uploads/2018/01/Barons3.jpg
END:VEVENT
BEGIN:VEVENT
DTSTART;TZID=America/Los_Angeles:20240625T180500
DTEND;TZID=America/Los_Angeles:20240625T210500
DTSTAMP:20260421T023352
CREATED:20240514T084757Z
LAST-MODIFIED:20240514T084757Z
UID:11667-1719338700-1719349500@www.arroyosecosaints.com
SUMMARY:@ ACADEMY BARONS
DESCRIPTION:
URL:https://www.arroyosecosaints.com/event/academy-barons-14/
LOCATION:MLB Urban Youth Academy (Compton\, CA)
CATEGORIES:2024 Calendar
ATTACH;FMTTYPE=image/jpeg:https://www.arroyosecosaints.com/wp-content/uploads/2018/01/Barons3.jpg
END:VEVENT
BEGIN:VEVENT
DTSTART;TZID=America/Los_Angeles:20240626T180500
DTEND;TZID=America/Los_Angeles:20240626T210500
DTSTAMP:20260421T023352
CREATED:20240514T084950Z
LAST-MODIFIED:20240514T085021Z
UID:11669-1719425100-1719435900@www.arroyosecosaints.com
SUMMARY:VS SB FORESTERS
DESCRIPTION:
URL:https://www.arroyosecosaints.com/event/vs-sb-foresters-8/
LOCATION:JRS – Brookside Park (Pasadena\, CA)
CATEGORIES:2024 Calendar
ATTACH;FMTTYPE=image/jpeg:https://www.arroyosecosaints.com/wp-content/uploads/2018/01/Santa-Barbara-Foresters.jpg
END:VEVENT
BEGIN:VEVENT
DTSTART;TZID=America/Los_Angeles:20240628T190000
DTEND;TZID=America/Los_Angeles:20240628T220000
DTSTAMP:20260421T023352
CREATED:20240514T085156Z
LAST-MODIFIED:20240517T112914Z
UID:11671-1719601200-1719612000@www.arroyosecosaints.com
SUMMARY:@ OC RIPTIDE
DESCRIPTION:
URL:https://www.arroyosecosaints.com/event/oc-riptide-12/
LOCATION:The Great Park (Irvine\, CA)\, 8000 Great Park Blvd.\, Irvine\, CA\, 92618\, United States
CATEGORIES:2024 Calendar
ATTACH;FMTTYPE=image/png:https://www.arroyosecosaints.com/wp-content/uploads/2018/01/Orange-County-Riptide.png
END:VEVENT
BEGIN:VEVENT
DTSTART;TZID=America/Los_Angeles:20240629T180500
DTEND;TZID=America/Los_Angeles:20240629T210500
DTSTAMP:20260421T023352
CREATED:20240514T085328Z
LAST-MODIFIED:20240514T085328Z
UID:11673-1719684300-1719695100@www.arroyosecosaints.com
SUMMARY:VS OC RIPTIDE
DESCRIPTION:
URL:https://www.arroyosecosaints.com/event/vs-oc-riptide-13/
LOCATION:JRS – Brookside Park (Pasadena\, CA)
CATEGORIES:2024 Calendar
ATTACH;FMTTYPE=image/png:https://www.arroyosecosaints.com/wp-content/uploads/2018/01/Orange-County-Riptide.png
END:VEVENT
BEGIN:VEVENT
DTSTART;TZID=America/Los_Angeles:20240630T180500
DTEND;TZID=America/Los_Angeles:20240630T210500
DTSTAMP:20260421T023352
CREATED:20240514T085458Z
LAST-MODIFIED:20240514T085458Z
UID:11675-1719770700-1719781500@www.arroyosecosaints.com
SUMMARY:VS VC PIRATES
DESCRIPTION:
URL:https://www.arroyosecosaints.com/event/vs-vc-pirates-4/
LOCATION:JRS – Brookside Park (Pasadena\, CA)
CATEGORIES:2024 Calendar
ATTACH;FMTTYPE=image/jpeg:https://www.arroyosecosaints.com/wp-content/uploads/2018/01/vcpirates1_small.jpg
END:VEVENT
END:VCALENDAR