BEGIN:VCALENDAR
VERSION:2.0
PRODID:-//Arroyo Seco Saints - ECPv6.15.17.1//NONSGML v1.0//EN
CALSCALE:GREGORIAN
METHOD:PUBLISH
X-WR-CALNAME:Arroyo Seco Saints
X-ORIGINAL-URL:https://www.arroyosecosaints.com
X-WR-CALDESC:Events for Arroyo Seco Saints
REFRESH-INTERVAL;VALUE=DURATION:PT1H
X-Robots-Tag:noindex
X-PUBLISHED-TTL:PT1H
BEGIN:VTIMEZONE
TZID:America/Los_Angeles
BEGIN:DAYLIGHT
TZOFFSETFROM:-0800
TZOFFSETTO:-0700
TZNAME:PDT
DTSTART:20230312T100000
END:DAYLIGHT
BEGIN:STANDARD
TZOFFSETFROM:-0700
TZOFFSETTO:-0800
TZNAME:PST
DTSTART:20231105T090000
END:STANDARD
BEGIN:DAYLIGHT
TZOFFSETFROM:-0800
TZOFFSETTO:-0700
TZNAME:PDT
DTSTART:20240310T100000
END:DAYLIGHT
BEGIN:STANDARD
TZOFFSETFROM:-0700
TZOFFSETTO:-0800
TZNAME:PST
DTSTART:20241103T090000
END:STANDARD
BEGIN:DAYLIGHT
TZOFFSETFROM:-0800
TZOFFSETTO:-0700
TZNAME:PDT
DTSTART:20250309T100000
END:DAYLIGHT
BEGIN:STANDARD
TZOFFSETFROM:-0700
TZOFFSETTO:-0800
TZNAME:PST
DTSTART:20251102T090000
END:STANDARD
END:VTIMEZONE
BEGIN:VEVENT
DTSTART;TZID=America/Los_Angeles:20240702T180500
DTEND;TZID=America/Los_Angeles:20240702T210500
DTSTAMP:20260421T005338
CREATED:20240514T085636Z
LAST-MODIFIED:20240514T085636Z
UID:11677-1719943500-1719954300@www.arroyosecosaints.com
SUMMARY:VS CONEJO OAKS
DESCRIPTION:
URL:https://www.arroyosecosaints.com/event/vs-conejo-oaks-19/
LOCATION:JRS – Brookside Park (Pasadena\, CA)
CATEGORIES:2024 Calendar
ATTACH;FMTTYPE=image/png:https://www.arroyosecosaints.com/wp-content/uploads/2018/01/Conejo-Oaks.png
END:VEVENT
BEGIN:VEVENT
DTSTART;TZID=America/Los_Angeles:20240703T180500
DTEND;TZID=America/Los_Angeles:20240703T210500
DTSTAMP:20260421T005338
CREATED:20240514T085859Z
LAST-MODIFIED:20240514T085859Z
UID:11679-1720029900-1720040700@www.arroyosecosaints.com
SUMMARY:@ ACADEMY BARONS
DESCRIPTION:
URL:https://www.arroyosecosaints.com/event/academy-barons-15/
LOCATION:MLB Urban Youth Academy (Compton\, CA)
CATEGORIES:2024 Calendar
ATTACH;FMTTYPE=image/jpeg:https://www.arroyosecosaints.com/wp-content/uploads/2018/01/Barons3.jpg
END:VEVENT
BEGIN:VEVENT
DTSTART;TZID=America/Los_Angeles:20240705T180500
DTEND;TZID=America/Los_Angeles:20240705T210500
DTSTAMP:20260421T005338
CREATED:20240514T090025Z
LAST-MODIFIED:20240514T090025Z
UID:11681-1720202700-1720213500@www.arroyosecosaints.com
SUMMARY:VS SD SUNRAYS
DESCRIPTION:
URL:https://www.arroyosecosaints.com/event/vs-sd-sunrays-2/
LOCATION:JRS – Brookside Park (Pasadena\, CA)
CATEGORIES:2024 Calendar
END:VEVENT
BEGIN:VEVENT
DTSTART;TZID=America/Los_Angeles:20240706T180000
DTEND;TZID=America/Los_Angeles:20240706T210000
DTSTAMP:20260421T005338
CREATED:20240514T090232Z
LAST-MODIFIED:20240514T090232Z
UID:11683-1720288800-1720299600@www.arroyosecosaints.com
SUMMARY:@ SLO BLUES
DESCRIPTION:
URL:https://www.arroyosecosaints.com/event/slo-blues-12/
LOCATION:Sinsheimer Park (San Luis Obispo\, CA)
CATEGORIES:2024 Calendar
ATTACH;FMTTYPE=image/jpeg:https://www.arroyosecosaints.com/wp-content/uploads/2019/03/San-Luis-Obispo-Blues.jpg
END:VEVENT
BEGIN:VEVENT
DTSTART;TZID=America/Los_Angeles:20240707T140000
DTEND;TZID=America/Los_Angeles:20240707T170000
DTSTAMP:20260421T005338
CREATED:20240514T090408Z
LAST-MODIFIED:20240517T112624Z
UID:11685-1720360800-1720371600@www.arroyosecosaints.com
SUMMARY:@ SLO BLUES
DESCRIPTION:
URL:https://www.arroyosecosaints.com/event/slo-blues-13/
LOCATION:Sinsheimer Park (San Luis Obispo\, CA)
CATEGORIES:2024 Calendar
ATTACH;FMTTYPE=image/jpeg:https://www.arroyosecosaints.com/wp-content/uploads/2019/03/San-Luis-Obispo-Blues.jpg
END:VEVENT
BEGIN:VEVENT
DTSTART;TZID=America/Los_Angeles:20240709T180500
DTEND;TZID=America/Los_Angeles:20240709T210500
DTSTAMP:20260421T005338
CREATED:20240514T090537Z
LAST-MODIFIED:20240514T090537Z
UID:11687-1720548300-1720559100@www.arroyosecosaints.com
SUMMARY:VS ACADEMY BARONS
DESCRIPTION:
URL:https://www.arroyosecosaints.com/event/vs-academy-barons-14/
LOCATION:JRS – Brookside Park (Pasadena\, CA)
CATEGORIES:2024 Calendar
ATTACH;FMTTYPE=image/jpeg:https://www.arroyosecosaints.com/wp-content/uploads/2018/01/Barons3.jpg
END:VEVENT
BEGIN:VEVENT
DTSTART;TZID=America/Los_Angeles:20240710T180500
DTEND;TZID=America/Los_Angeles:20240710T210500
DTSTAMP:20260421T005338
CREATED:20240514T090731Z
LAST-MODIFIED:20240514T090731Z
UID:11689-1720634700-1720645500@www.arroyosecosaints.com
SUMMARY:VS SB FORESTERS
DESCRIPTION:
URL:https://www.arroyosecosaints.com/event/vs-sb-foresters-12/
LOCATION:JRS – Brookside Park (Pasadena\, CA)
CATEGORIES:2024 Calendar
ATTACH;FMTTYPE=image/jpeg:https://www.arroyosecosaints.com/wp-content/uploads/2019/03/Santa-Barbara-Foresters.jpg
END:VEVENT
BEGIN:VEVENT
DTSTART;TZID=America/Los_Angeles:20240712T180500
DTEND;TZID=America/Los_Angeles:20240712T210500
DTSTAMP:20260421T005338
CREATED:20240514T090952Z
LAST-MODIFIED:20240514T090952Z
UID:11691-1720807500-1720818300@www.arroyosecosaints.com
SUMMARY:VS CONEJO OAKS
DESCRIPTION:
URL:https://www.arroyosecosaints.com/event/vs-conejo-oaks-20/
LOCATION:JRS – Brookside Park (Pasadena\, CA)
CATEGORIES:2024 Calendar
ATTACH;FMTTYPE=image/png:https://www.arroyosecosaints.com/wp-content/uploads/2018/01/Conejo-Oaks.png
END:VEVENT
BEGIN:VEVENT
DTSTART;TZID=America/Los_Angeles:20240713T160000
DTEND;TZID=America/Los_Angeles:20240713T190000
DTSTAMP:20260421T005338
CREATED:20240514T091129Z
LAST-MODIFIED:20240514T091129Z
UID:11693-1720886400-1720897200@www.arroyosecosaints.com
SUMMARY:@ CONEJO OAKS
DESCRIPTION:
URL:https://www.arroyosecosaints.com/event/conejo-oaks-19/
LOCATION:Cal Lutheran University (Thousand Oaks\, CA)
CATEGORIES:2024 Calendar
ATTACH;FMTTYPE=image/png:https://www.arroyosecosaints.com/wp-content/uploads/2018/01/Conejo-Oaks.png
END:VEVENT
BEGIN:VEVENT
DTSTART;TZID=America/Los_Angeles:20240714T180500
DTEND;TZID=America/Los_Angeles:20240714T210500
DTSTAMP:20260421T005338
CREATED:20240514T091304Z
LAST-MODIFIED:20240514T091304Z
UID:11695-1720980300-1720991100@www.arroyosecosaints.com
SUMMARY:VS ACADEMY BARONS
DESCRIPTION:
URL:https://www.arroyosecosaints.com/event/vs-academy-barons-15/
LOCATION:JRS – Brookside Park (Pasadena\, CA)
CATEGORIES:2024 Calendar
ATTACH;FMTTYPE=image/jpeg:https://www.arroyosecosaints.com/wp-content/uploads/2018/01/Barons3.jpg
END:VEVENT
BEGIN:VEVENT
DTSTART;TZID=America/Los_Angeles:20240717T190000
DTEND;TZID=America/Los_Angeles:20240717T220000
DTSTAMP:20260421T005338
CREATED:20240514T091551Z
LAST-MODIFIED:20240514T091551Z
UID:11697-1721242800-1721253600@www.arroyosecosaints.com
SUMMARY:CCL SHOWCASE GAME
DESCRIPTION:
URL:https://www.arroyosecosaints.com/event/ccl-showcase-game-3/
LOCATION:MLB Urban Youth Academy (Compton\, CA)
CATEGORIES:2024 Calendar
END:VEVENT
BEGIN:VEVENT
DTSTART;TZID=America/Los_Angeles:20240718T180500
DTEND;TZID=America/Los_Angeles:20240718T210500
DTSTAMP:20260421T005338
CREATED:20240514T091814Z
LAST-MODIFIED:20240514T091814Z
UID:11699-1721325900-1721336700@www.arroyosecosaints.com
SUMMARY:VS ACADEMY BARONS
DESCRIPTION:
URL:https://www.arroyosecosaints.com/event/vs-academy-barons-16/
LOCATION:JRS – Brookside Park (Pasadena\, CA)
CATEGORIES:2024 Calendar
ATTACH;FMTTYPE=image/jpeg:https://www.arroyosecosaints.com/wp-content/uploads/2018/01/Barons3.jpg
END:VEVENT
BEGIN:VEVENT
DTSTART;TZID=America/Los_Angeles:20240719T180500
DTEND;TZID=America/Los_Angeles:20240719T210500
DTSTAMP:20260421T005338
CREATED:20240514T091922Z
LAST-MODIFIED:20240514T092049Z
UID:11701-1721412300-1721423100@www.arroyosecosaints.com
SUMMARY:VS CONEJO OAKS
DESCRIPTION:
URL:https://www.arroyosecosaints.com/event/vs-conejo-oaks-21/
LOCATION:JRS – Brookside Park (Pasadena\, CA)
CATEGORIES:2024 Calendar
ATTACH;FMTTYPE=image/png:https://www.arroyosecosaints.com/wp-content/uploads/2018/01/Conejo-Oaks.png
END:VEVENT
BEGIN:VEVENT
DTSTART;TZID=America/Los_Angeles:20240720T180500
DTEND;TZID=America/Los_Angeles:20240720T210500
DTSTAMP:20260421T005338
CREATED:20240514T092240Z
LAST-MODIFIED:20240514T092240Z
UID:11703-1721498700-1721509500@www.arroyosecosaints.com
SUMMARY:VS OC RIPTIDE
DESCRIPTION:
URL:https://www.arroyosecosaints.com/event/vs-oc-riptide-14/
LOCATION:JRS – Brookside Park (Pasadena\, CA)
CATEGORIES:2024 Calendar
ATTACH;FMTTYPE=image/png:https://www.arroyosecosaints.com/wp-content/uploads/2018/01/Orange-County-Riptide.png
END:VEVENT
BEGIN:VEVENT
DTSTART;TZID=America/Los_Angeles:20240721T190000
DTEND;TZID=America/Los_Angeles:20240721T220000
DTSTAMP:20260421T005338
CREATED:20240514T092406Z
LAST-MODIFIED:20240517T113324Z
UID:11705-1721588400-1721599200@www.arroyosecosaints.com
SUMMARY:@ OC RIPTIDE
DESCRIPTION:
URL:https://www.arroyosecosaints.com/event/oc-riptide-13/
LOCATION:The Great Park (Irvine\, CA)\, 8000 Great Park Blvd.\, Irvine\, CA\, 92618\, United States
CATEGORIES:2024 Calendar
ATTACH;FMTTYPE=image/png:https://www.arroyosecosaints.com/wp-content/uploads/2018/01/Orange-County-Riptide.png
END:VEVENT
BEGIN:VEVENT
DTSTART;TZID=America/Los_Angeles:20240723T180500
DTEND;TZID=America/Los_Angeles:20240723T210500
DTSTAMP:20260421T005338
CREATED:20240514T092526Z
LAST-MODIFIED:20240514T092526Z
UID:11707-1721757900-1721768700@www.arroyosecosaints.com
SUMMARY:VS OC RIPTIDE
DESCRIPTION:
URL:https://www.arroyosecosaints.com/event/vs-oc-riptide-15/
LOCATION:JRS – Brookside Park (Pasadena\, CA)
CATEGORIES:2024 Calendar
ATTACH;FMTTYPE=image/png:https://www.arroyosecosaints.com/wp-content/uploads/2018/01/Orange-County-Riptide.png
END:VEVENT
BEGIN:VEVENT
DTSTART;TZID=America/Los_Angeles:20240724T163000
DTEND;TZID=America/Los_Angeles:20240724T193000
DTSTAMP:20260421T005338
CREATED:20240514T092732Z
LAST-MODIFIED:20240514T092732Z
UID:11709-1721838600-1721849400@www.arroyosecosaints.com
SUMMARY:@ CONEJO OAKS
DESCRIPTION:
URL:https://www.arroyosecosaints.com/event/conejo-oaks-20/
LOCATION:Cal Lutheran University (Thousand Oaks\, CA)
CATEGORIES:2024 Calendar
ATTACH;FMTTYPE=image/png:https://www.arroyosecosaints.com/wp-content/uploads/2018/01/Conejo-Oaks.png
END:VEVENT
BEGIN:VEVENT
DTSTART;TZID=America/Los_Angeles:20240726T180500
DTEND;TZID=America/Los_Angeles:20240726T210500
DTSTAMP:20260421T005338
CREATED:20240514T092952Z
LAST-MODIFIED:20240514T092952Z
UID:11711-1722017100-1722027900@www.arroyosecosaints.com
SUMMARY:VS ACADEMY BARONS
DESCRIPTION:
URL:https://www.arroyosecosaints.com/event/vs-academy-barons-17/
LOCATION:JRS – Brookside Park (Pasadena\, CA)
CATEGORIES:2024 Calendar
ATTACH;FMTTYPE=image/jpeg:https://www.arroyosecosaints.com/wp-content/uploads/2018/01/Barons3.jpg
END:VEVENT
BEGIN:VEVENT
DTSTART;TZID=America/Los_Angeles:20240727T190000
DTEND;TZID=America/Los_Angeles:20240727T220000
DTSTAMP:20260421T005338
CREATED:20240514T093145Z
LAST-MODIFIED:20240517T113250Z
UID:11713-1722106800-1722117600@www.arroyosecosaints.com
SUMMARY:@ OC RIPTIDES
DESCRIPTION:
URL:https://www.arroyosecosaints.com/event/oc-riptides/
LOCATION:The Great Park (Irvine\, CA)\, 8000 Great Park Blvd.\, Irvine\, CA\, 92618\, United States
CATEGORIES:2024 Calendar
ATTACH;FMTTYPE=image/png:https://www.arroyosecosaints.com/wp-content/uploads/2018/01/Orange-County-Riptide.png
END:VEVENT
BEGIN:VEVENT
DTSTART;TZID=America/Los_Angeles:20240728T130000
DTEND;TZID=America/Los_Angeles:20240728T160000
DTSTAMP:20260421T005338
CREATED:20240514T093319Z
LAST-MODIFIED:20240514T093319Z
UID:11715-1722171600-1722182400@www.arroyosecosaints.com
SUMMARY:@ CONEJO OAKS
DESCRIPTION:
URL:https://www.arroyosecosaints.com/event/conejo-oaks-21/
LOCATION:Cal Lutheran University (Thousand Oaks\, CA)
CATEGORIES:2024 Calendar
ATTACH;FMTTYPE=image/png:https://www.arroyosecosaints.com/wp-content/uploads/2018/01/Conejo-Oaks.png
END:VEVENT
BEGIN:VEVENT
DTSTART;VALUE=DATE:20240730
DTEND;VALUE=DATE:20240731
DTSTAMP:20260421T005338
CREATED:20240514T093525Z
LAST-MODIFIED:20240514T093525Z
UID:11717-1722297600-1722383999@www.arroyosecosaints.com
SUMMARY:CCL PLAYOFFS
DESCRIPTION:
URL:https://www.arroyosecosaints.com/event/ccl-playoffs-10/
CATEGORIES:2024 Calendar
END:VEVENT
BEGIN:VEVENT
DTSTART;VALUE=DATE:20240731
DTEND;VALUE=DATE:20240801
DTSTAMP:20260421T005338
CREATED:20240514T093609Z
LAST-MODIFIED:20240514T093609Z
UID:11719-1722384000-1722470399@www.arroyosecosaints.com
SUMMARY:CCL PLAYOFFS
DESCRIPTION:
URL:https://www.arroyosecosaints.com/event/ccl-playoffs-14/
CATEGORIES:2024 Calendar
END:VEVENT
END:VCALENDAR